View In:
ArcGIS JavaScript
ArcGIS Online Map Viewer
ArcGIS Earth
ArcGIS Pro
Service Description:
Map Name: Basemap Verwaltungsgrenzen
Legend
All Layers and Tables
Layers:
Description:
Copyright Text:
Spatial Reference:
25833
(25833)
LatestVCSWkid(0)
Single Fused Map Cache: true
Tile Info:
- Height: 256.0
- Width: 256.0
- DPI: 96.0
-
Levels of Detail: 16
-
Level ID: 0
[ Start Tile, End Tile ]
- Resolution: 4891.96981024998
- Scale: 1.8489297737236E7
- Format: PNG
- Compression Quality: 0.0
- Origin: X: 264012.599424
Y: 5732828.18257
- Spatial Reference: 25833
(25833)
LatestVCSWkid(0)
Storage Info:
- Storage Format: esriMapCacheStorageModeCompactV2
- Packet Size: 128
Initial Extent:
XMin: 207380.24673254756
YMin: 5528054.921672981
XMax: 558232.306029034
YMax: 5765915.814061433
Spatial Reference: 25833
(25833)
LatestVCSWkid(0)
Full Extent:
XMin: 278330.4012000002
YMin: 5561086.575999999
XMax: 502930.3986999998
YMax: 5728199.332900001
Spatial Reference: 25833
(25833)
LatestVCSWkid(0)
Units: esriMeters
Supported Image Format Types: PNG32,PNG24,PNG,JPG,DIB,TIFF,EMF,PS,PDF,GIF,SVG,SVGZ,BMP
Document Info:
Title: RAPIS.aprx
Author:
Comments:
Subject:
Category:
Keywords:
AntialiasingMode: Fast
TextAntialiasingMode: Force
Supports Dynamic Layers: false
Resampling: false
MaxRecordCount: 2000
MaxSelectionCount: 2000
MaxImageHeight: 4096
MaxImageWidth: 4096
Supported Query Formats: JSON, geoJSON, PBF
Supports Query Data Elements: true
Min Scale: 1.8450966922249645E7
Max Scale: 36037.04477001884
Min LOD: 0
Max LOD: 15
Supports Datum Transformation: true
Child Resources:
Info
Supported Operations:
Export Map
QueryLegends
Return Updates