View In:
ArcGIS JavaScript
ArcGIS Online Map Viewer
ArcGIS Earth
ArcGIS Pro
Service Description:
Map Name: DTK250 Grau
Legend
All Layers and Tables
Layers:
Description:
Copyright Text:
Spatial Reference:
25833
(25833)
LatestVCSWkid(0)
Single Fused Map Cache: true
Tile Info:
- Height: 256.0
- Width: 256.0
- DPI: 96.0
-
Levels of Detail: 16
-
Level ID: 0
[ Start Tile, End Tile ]
- Resolution: 4891.96981024998
- Scale: 1.8489297737236E7
- Format: PNG
- Compression Quality: 0.0
- Origin: X: -464849.38
Y: 6310160.14
- Spatial Reference: 25833
(25833)
LatestVCSWkid(0)
Storage Info:
- Storage Format: esriMapCacheStorageModeCompactV2
- Packet Size: 128
Initial Extent:
XMin: 301642.37304819876
YMin: 5564534.631825187
XMax: 479618.42695180106
YMax: 5724752.110174811
Spatial Reference: 25833
(25833)
LatestVCSWkid(0)
Full Extent:
XMin: 278330.40199999977
YMin: 5561086.575999999
XMax: 502930.39800000004
YMax: 5728200.165999999
Spatial Reference: 25833
(25833)
LatestVCSWkid(0)
Units: esriMeters
Supported Image Format Types: PNG32,PNG24,PNG,JPG,DIB,TIFF,EMF,PS,PDF,GIF,SVG,SVGZ,BMP
Document Info:
Title: Karte
Author:
Comments:
Subject:
Category:
Keywords:
AntialiasingMode: Fast
TextAntialiasingMode: Force
Supports Dynamic Layers: false
Resampling: false
MaxRecordCount: 2000
MaxSelectionCount: 2000
MaxImageHeight: 4096
MaxImageWidth: 4096
Supported Query Formats: JSON, geoJSON, PBF
Supports Query Data Elements: true
Min Scale: 1.8489297737236E7
Max Scale: 36111.909643
Max LOD: 9
Supports Datum Transformation: true
Child Resources:
Info
Supported Operations:
Export Map
QueryLegends
Return Updates