{
 "currentVersion": 11.5,
 "cimVersion": "3.5.0",
 "serviceDescription": "",
 "mapName": "BPLAN",
 "description": "",
 "copyrightText": "",
 "supportsDynamicLayers": false,
 "layers": [
  {
   "id": 5,
   "name": "Satzungsbereiche",
   "parentLayerId": -1,
   "defaultVisibility": true,
   "subLayerIds": null,
   "minScale": 0,
   "maxScale": 0,
   "type": "Feature Layer",
   "geometryType": "esriGeometryPolygon",
   "supportsDynamicLegends": true
  },
  {
   "id": 3,
   "name": "BPLAN Geltungsbereich - in Kraft",
   "parentLayerId": -1,
   "defaultVisibility": true,
   "subLayerIds": null,
   "minScale": 0,
   "maxScale": 0,
   "type": "Feature Layer",
   "geometryType": "esriGeometryPolygon",
   "supportsDynamicLegends": true
  },
  {
   "id": 2,
   "name": "BPLAN Nutzungsarten - in Kraft",
   "parentLayerId": -1,
   "defaultVisibility": true,
   "subLayerIds": null,
   "minScale": 0,
   "maxScale": 0,
   "type": "Feature Layer",
   "geometryType": "esriGeometryPolygon",
   "supportsDynamicLegends": true
  },
  {
   "id": 1,
   "name": "BPLAN Geltungsbereich - Planung",
   "parentLayerId": -1,
   "defaultVisibility": true,
   "subLayerIds": null,
   "minScale": 0,
   "maxScale": 0,
   "type": "Feature Layer",
   "geometryType": "esriGeometryPolygon",
   "supportsDynamicLegends": true
  },
  {
   "id": 0,
   "name": "BPLAN Nutzungsarten - Planung",
   "parentLayerId": -1,
   "defaultVisibility": true,
   "subLayerIds": null,
   "minScale": 0,
   "maxScale": 0,
   "type": "Feature Layer",
   "geometryType": "esriGeometryPolygon",
   "supportsDynamicLegends": true
  }
 ],
 "tables": [],
 "spatialReference": {
  "wkid": 25833,
  "latestWkid": 25833,
  "xyTolerance": 0.001,
  "zTolerance": 0.001,
  "mTolerance": 0.001,
  "falseX": -5120900,
  "falseY": -9998100,
  "xyUnits": 4.504455473910538E8,
  "falseZ": -100000,
  "zUnits": 10000,
  "falseM": -100000,
  "mUnits": 10000
 },
 "singleFusedMapCache": true,
 "tileInfo": {
  "rows": 256,
  "cols": 256,
  "dpi": 96,
  "format": "PNG",
  "compressionQuality": 0,
  "origin": {
   "x": 264012.599424,
   "y": 5732828.18257
  },
  "spatialReference": {
   "wkid": 25833,
   "latestWkid": 25833,
   "xyTolerance": 0.001,
   "zTolerance": 0.001,
   "mTolerance": 0.001,
   "falseX": -4.503599627370495E11,
   "falseY": -4.503599627370495E11,
   "xyUnits": 10000,
   "falseZ": -4.503599627370495E11,
   "zUnits": 10000,
   "falseM": -4.503599627370495E11,
   "mUnits": 10000
  },
  "lods": [
   {
    "level": 0,
    "resolution": 4891.96981024998,
    "scale": 1.8489297737236E7
   },
   {
    "level": 1,
    "resolution": 2445.98490512499,
    "scale": 9244648.868618
   },
   {
    "level": 2,
    "resolution": 1222.992452562495,
    "scale": 4622324.434309
   },
   {
    "level": 3,
    "resolution": 611.4962262813797,
    "scale": 2311162.217155
   },
   {
    "level": 4,
    "resolution": 305.74811314055756,
    "scale": 1155581.108577
   },
   {
    "level": 5,
    "resolution": 152.87405657041106,
    "scale": 577790.554289
   },
   {
    "level": 6,
    "resolution": 76.43702828507324,
    "scale": 288895.277144
   },
   {
    "level": 7,
    "resolution": 38.21851414253662,
    "scale": 144447.638572
   },
   {
    "level": 8,
    "resolution": 19.10925707126831,
    "scale": 72223.819286
   },
   {
    "level": 9,
    "resolution": 9.554628535634155,
    "scale": 36111.909643
   },
   {
    "level": 10,
    "resolution": 4.77731426794937,
    "scale": 18055.954822
   },
   {
    "level": 11,
    "resolution": 2.388657133974685,
    "scale": 9027.977411
   },
   {
    "level": 12,
    "resolution": 1.1943285668550503,
    "scale": 4513.988705
   },
   {
    "level": 13,
    "resolution": 0.5971642835598172,
    "scale": 2256.994353
   },
   {
    "level": 14,
    "resolution": 0.29858214164761665,
    "scale": 1128.497176
   },
   {
    "level": 15,
    "resolution": 0.14929107082380833,
    "scale": 564.248588
   }
  ]
 },
 "storageInfo": {
  "storageFormat": "esriMapCacheStorageModeCompactV2",
  "packetSize": 128
 },
 "initialExtent": {
  "xmin": 380537.7953449864,
  "ymin": 5645177.812002237,
  "xmax": 421408.3600312146,
  "ymax": 5687913.395937511,
  "spatialReference": {
   "wkid": 25833,
   "latestWkid": 25833,
   "xyTolerance": 0.001,
   "zTolerance": 0.001,
   "mTolerance": 0.001,
   "falseX": -5120900,
   "falseY": -9998100,
   "xyUnits": 4.504455473910538E8,
   "falseZ": -100000,
   "zUnits": 10000,
   "falseM": -100000,
   "mUnits": 10000
  }
 },
 "fullExtent": {
  "xmin": 279829.57189999986,
  "ymin": 5563432.358999999,
  "xmax": 502008.97530000005,
  "ymax": 5725509.376700001,
  "spatialReference": {
   "wkid": 25833,
   "latestWkid": 25833,
   "xyTolerance": 0.001,
   "zTolerance": 0.001,
   "mTolerance": 0.001,
   "falseX": -5120900,
   "falseY": -9998100,
   "xyUnits": 4.504455473910538E8,
   "falseZ": -100000,
   "zUnits": 10000,
   "falseM": -100000,
   "mUnits": 10000
  }
 },
 "datesInUnknownTimezone": false,
 "minScale": 1.8489297737236E7,
 "maxScale": 564.248588,
 "minLOD": 0,
 "maxLOD": 15,
 "units": "esriMeters",
 "supportedImageFormatTypes": "PNG32,PNG24,PNG,JPG,DIB,TIFF,EMF,PS,PDF,GIF,SVG,SVGZ,BMP",
 "documentInfo": {
  "Title": "RAPIS.aprx",
  "Author": "",
  "Comments": "",
  "Subject": "",
  "Category": "",
  "Version": "3.5.0",
  "AntialiasingMode": "Normal",
  "TextAntialiasingMode": "Force",
  "Keywords": "BPLAN,Bebauungsplan,Bebauungsplanung,DIGROK,RAPIS,Landesdirektion,Sachsen,Chemnitz,Dresden,Leipzig"
 },
 "supportsQueryDomains": true,
 "capabilities": "Map,Query,Data,TileMap",
 "supportedQueryFormats": "JSON, geoJSON, PBF",
 "exportTilesAllowed": false,
 "referenceScale": 25000.0,
 "datumTransformations": [
  {
   "geoTransforms": [
    {
     "wkid": 108001,
     "latestWkid": 1241,
     "transformForward": true,
     "name": "NAD_1927_To_NAD_1983_NADCON"
    }
   ]
  },
  {
   "geoTransforms": [
    {
     "wkid": 108001,
     "latestWkid": 1241,
     "transformForward": false,
     "name": "NAD_1927_To_NAD_1983_NADCON"
    }
   ]
  }
 ],
 "supportsDatumTransformation": true,
 "archivingInfo": {
  "supportsHistoricMoment": false
 },
 "supportsClipping": true,
 "supportsSpatialFilter": true,
 "supportsTimeRelation": true,
 "supportsQueryDataElements": true,
 "mapUnits": {
  "uwkid": 9001
 },
 "maxSelectionCount": 2000,
 "maxRecordCount": 10000,
 "maxImageHeight": 4096,
 "maxImageWidth": 4096,
 "supportedExtensions": "WMSServer",
 "resampling": false
}
